BEGIN:VCALENDAR
VERSION:2.0
PRODID:-//IWCA Canada - ECPv6.15.20//NONSGML v1.0//EN
CALSCALE:GREGORIAN
METHOD:PUBLISH
X-WR-CALNAME:IWCA Canada
X-ORIGINAL-URL:https://www.iwcacanada.org
X-WR-CALDESC:Events for IWCA Canada
REFRESH-INTERVAL;VALUE=DURATION:PT1H
X-Robots-Tag:noindex
X-PUBLISHED-TTL:PT1H
BEGIN:VTIMEZONE
TZID:America/Toronto
BEGIN:DAYLIGHT
TZOFFSETFROM:-0500
TZOFFSETTO:-0400
TZNAME:EDT
DTSTART:20250309T070000
END:DAYLIGHT
BEGIN:STANDARD
TZOFFSETFROM:-0400
TZOFFSETTO:-0500
TZNAME:EST
DTSTART:20251102T060000
END:STANDARD
BEGIN:DAYLIGHT
TZOFFSETFROM:-0500
TZOFFSETTO:-0400
TZNAME:EDT
DTSTART:20260308T070000
END:DAYLIGHT
BEGIN:STANDARD
TZOFFSETFROM:-0400
TZOFFSETTO:-0500
TZNAME:EST
DTSTART:20261101T060000
END:STANDARD
BEGIN:DAYLIGHT
TZOFFSETFROM:-0500
TZOFFSETTO:-0400
TZNAME:EDT
DTSTART:20270314T070000
END:DAYLIGHT
BEGIN:STANDARD
TZOFFSETFROM:-0400
TZOFFSETTO:-0500
TZNAME:EST
DTSTART:20271107T060000
END:STANDARD
END:VTIMEZONE
BEGIN:VEVENT
DTSTART;TZID=America/Toronto:20260502T160000
DTEND;TZID=America/Toronto:20260502T190000
DTSTAMP:20260424T110643
CREATED:20260326T202648Z
LAST-MODIFIED:20260422T181038Z
UID:454-1777737600-1777748400@www.iwcacanada.org
SUMMARY:IWCA Canada Launch Party
DESCRIPTION:Join us to celebrate the official launch of IWCA Canada! IWCA Canada will be hosting a small ‘Roasting 101’ event at Jungle Coffee Roastery\, joined by special guests from IWCA Colombia and IWCA Spain. \nPlease register so we know you’re coming and consider donating $15 to cover for our food/drinks/beans costs – donations can be made through the EventBrite link below. Each ticket will include one free drink.
URL:https://www.iwcacanada.org/event/iwca-canada-launch-party/
LOCATION:Jungle Coffee Roastery\, 1061 Rue de l'Église\, Montréal\, Quebec\, H4G 2N8\, Canada
END:VEVENT
BEGIN:VEVENT
DTSTART;TZID=America/Toronto:20260515T000000
DTEND;TZID=America/Toronto:20260517T235900
DTSTAMP:20260424T110643
CREATED:20260327T201356Z
LAST-MODIFIED:20260420T202709Z
UID:658-1778803200-1779062340@www.iwcacanada.org
SUMMARY:Coffee Cupping Workshop
DESCRIPTION:Details coming soon.
URL:https://www.iwcacanada.org/event/coffee-cupping-workshop/
END:VEVENT
BEGIN:VEVENT
DTSTART;TZID=America/Toronto:20260614T170000
DTEND;TZID=America/Toronto:20260614T210000
DTSTAMP:20260424T110643
CREATED:20260327T212149Z
LAST-MODIFIED:20260420T202630Z
UID:663-1781456400-1781470800@www.iwcacanada.org
SUMMARY:Meet & Greet Brunch
DESCRIPTION:Details coming soon.
URL:https://www.iwcacanada.org/event/meet-greet-brunch/
END:VEVENT
BEGIN:VEVENT
DTSTART;TZID=America/Toronto:20260816T080000
DTEND;TZID=America/Toronto:20260816T170000
DTSTAMP:20260424T110643
CREATED:20260327T212441Z
LAST-MODIFIED:20260420T202603Z
UID:667-1786867200-1786899600@www.iwcacanada.org
SUMMARY:Meet & Greet Brunch
DESCRIPTION:Details coming soon.
URL:https://www.iwcacanada.org/event/meet-greet-brunch-2/
END:VEVENT
BEGIN:VEVENT
DTSTART;TZID=America/Toronto:20261009T080000
DTEND;TZID=America/Toronto:20261011T170000
DTSTAMP:20260424T110643
CREATED:20260327T212534Z
LAST-MODIFIED:20260420T202536Z
UID:669-1791532800-1791738000@www.iwcacanada.org
SUMMARY:Launch Women in Coffee seminar
DESCRIPTION:Details coming soon.
URL:https://www.iwcacanada.org/event/launch-women-in-coffee-seminar/
END:VEVENT
BEGIN:VEVENT
DTSTART;TZID=America/Toronto:20261107T080000
DTEND;TZID=America/Toronto:20261108T170000
DTSTAMP:20260424T110643
CREATED:20260327T212730Z
LAST-MODIFIED:20260420T202512Z
UID:675-1794038400-1794157200@www.iwcacanada.org
SUMMARY:CAC Participation
DESCRIPTION:Details coming soon.
URL:https://www.iwcacanada.org/event/cac-participation/
END:VEVENT
END:VCALENDAR